<?xml version="1.0" encoding="UTF-8" standalone="no"?>
<metadata xml:lang="en">
<Esri>
<CreaDate>20211006</CreaDate>
<CreaTime>11450400</CreaTime>
<ArcGISFormat>1.0</ArcGISFormat>
<ArcGISstyle>ISO 19139 Metadata Implementation Specification</ArcGISstyle>
<SyncOnce>FALSE</SyncOnce>
<DataProperties>
<lineage>
<Process Date="20211006" Time="114504" ToolSource="c:\program files (x86)\arcgis\desktop10.7\ArcToolbox\Toolboxes\Data Management Tools.tbx\CreateMosaicDataset">CreateMosaicDataset \\DEVSEASKETCHFS1\Seasketch_Data\SeafloorClassification\Data.gdb SeafloorClassificationTerritorialSea "PROJCS['Albers_Conic_Equal_Area',GEOGCS['GCS_WGS_1984',DATUM['D_WGS_1984',SPHEROID['WGS_1984',6378137.0,298.257223563]],PRIMEM['Greenwich',0.0],UNIT['Degree',0.0174532925199433]],PROJECTION['Albers'],PARAMETER['false_easting',0.0],PARAMETER['false_northing',0.0],PARAMETER['central_meridian',175.0],PARAMETER['standard_parallel_1',-30.0],PARAMETER['standard_parallel_2',-50.0],PARAMETER['latitude_of_origin',-40.0],UNIT['Meter',1.0]];-16381800 -14264900 10000;-100000 10000;-100000 10000;0.001;0.001;0.001;IsHighPrecision" # # NONE #</Process>
</lineage>
<itemProps>
<itemName Sync="TRUE">SeafloorClassificationTerritorialSea</itemName>
<itemLocation>
<linkage Sync="TRUE">file://\\DEVSEASKETCHFS1\Seasketch_Data\SeafloorClassification\Data.gdb</linkage>
<protocol Sync="TRUE">Local Area Network</protocol>
</itemLocation>
<nativeExtBox>
<westBL Sync="TRUE">-679728.634030</westBL>
<eastBL Sync="TRUE">747271.365970</eastBL>
<southBL Sync="TRUE">-1448930.342890</southBL>
<northBL Sync="TRUE">1200069.657110</northBL>
<exTypeCode Sync="TRUE">1</exTypeCode>
</nativeExtBox>
</itemProps>
<coordRef>
<type Sync="TRUE">Projected</type>
<geogcsn Sync="TRUE">GCS_WGS_1984</geogcsn>
<csUnits Sync="TRUE">Linear Unit: Meter (1.000000)</csUnits>
<projcsn Sync="TRUE">Albers_Conic_Equal_Area</projcsn>
<peXml Sync="TRUE">&lt;ProjectedCoordinateSystem xsi:type='typens:ProjectedCoordinateSystem' xmlns:xsi='http://www.w3.org/2001/XMLSchema-instance' xmlns:xs='http://www.w3.org/2001/XMLSchema' xmlns:typens='http://www.esri.com/schemas/ArcGIS/2.8.0'&gt;&lt;WKT&gt;PROJCS[&amp;quot;Albers_Conic_Equal_Area&amp;quot;,GEOGCS[&amp;quot;GCS_WGS_1984&amp;quot;,DATUM[&amp;quot;D_WGS_1984&amp;quot;,SPHEROID[&amp;quot;WGS_1984&amp;quot;,6378137.0,298.257223563]],PRIMEM[&amp;quot;Greenwich&amp;quot;,0.0],UNIT[&amp;quot;Degree&amp;quot;,0.0174532925199433]],PROJECTION[&amp;quot;Albers&amp;quot;],PARAMETER[&amp;quot;false_easting&amp;quot;,0.0],PARAMETER[&amp;quot;false_northing&amp;quot;,0.0],PARAMETER[&amp;quot;central_meridian&amp;quot;,175.0],PARAMETER[&amp;quot;standard_parallel_1&amp;quot;,-30.0],PARAMETER[&amp;quot;standard_parallel_2&amp;quot;,-50.0],PARAMETER[&amp;quot;latitude_of_origin&amp;quot;,-40.0],UNIT[&amp;quot;Meter&amp;quot;,1.0]]&lt;/WKT&gt;&lt;XOrigin&gt;-16381800&lt;/XOrigin&gt;&lt;YOrigin&gt;-14264900&lt;/YOrigin&gt;&lt;XYScale&gt;274914821.77602553&lt;/XYScale&gt;&lt;ZOrigin&gt;-100000&lt;/ZOrigin&gt;&lt;ZScale&gt;10000&lt;/ZScale&gt;&lt;MOrigin&gt;-100000&lt;/MOrigin&gt;&lt;MScale&gt;10000&lt;/MScale&gt;&lt;XYTolerance&gt;0.001&lt;/XYTolerance&gt;&lt;ZTolerance&gt;0.001&lt;/ZTolerance&gt;&lt;MTolerance&gt;0.001&lt;/MTolerance&gt;&lt;HighPrecision&gt;true&lt;/HighPrecision&gt;&lt;/ProjectedCoordinateSystem&gt;</peXml>
</coordRef>
<RasterProperties>
<General>
<PixelDepth Sync="TRUE">32</PixelDepth>
<HasColormap Sync="TRUE">FALSE</HasColormap>
<CompressionType Sync="TRUE">None</CompressionType>
<NumBands Sync="TRUE">1</NumBands>
<Format Sync="TRUE">AMD</Format>
<HasPyramids Sync="TRUE">TRUE</HasPyramids>
<SourceType Sync="TRUE">continuous</SourceType>
<PixelType Sync="TRUE">floating point</PixelType>
<NoDataValue Sync="TRUE"/>
</General>
<Properties>
<MaxImageHeight Sync="TRUE">4100</MaxImageHeight>
<MaxImageWidth Sync="TRUE">15000</MaxImageWidth>
<MaxRecordCount Sync="TRUE">1000</MaxRecordCount>
<MaxDownloadImageCount Sync="TRUE">20</MaxDownloadImageCount>
<MaxDownloadSizeLimit Sync="TRUE">2048</MaxDownloadSizeLimit>
<MaxMosaicImageCount Sync="TRUE">20</MaxMosaicImageCount>
<DefaultCompressionQuality Sync="TRUE">75</DefaultCompressionQuality>
<DefaultCompressionTolerance Sync="TRUE">0.01</DefaultCompressionTolerance>
<BlendWidth Sync="TRUE">10</BlendWidth>
<ViewpointSpacingX Sync="TRUE">600</ViewpointSpacingX>
<ViewpointSpacingY Sync="TRUE">300</ViewpointSpacingY>
<AllowedItemMetadata Sync="TRUE">Basic</AllowedItemMetadata>
<DefaultResamplingMethod Sync="TRUE">0</DefaultResamplingMethod>
<AllowedMosaicMethods Sync="TRUE">NorthWest,Center,LockRaster,ByAttribute,Nadir,Viewpoint,Seamline,None</AllowedMosaicMethods>
<AllowedCompressions Sync="TRUE">None,JPEG,LZ77,LERC</AllowedCompressions>
<AllowedMensurationCapabilities Sync="TRUE">Basic</AllowedMensurationCapabilities>
<AvailableMensurationCapabilities Sync="TRUE">None,Basic,Base-Top Height,Top-Top Shadow Height,Base-Top Shadow Height,3D</AvailableMensurationCapabilities>
<ClipToBoundary Sync="TRUE">-1</ClipToBoundary>
<FootprintMayContainNoData Sync="TRUE">-1</FootprintMayContainNoData>
<CellSizeTolerance Sync="TRUE">0.8</CellSizeTolerance>
<MinimumPixelContribution Sync="TRUE">1</MinimumPixelContribution>
<AvailableMosaicMethods Sync="TRUE">NorthWest,Center,LockRaster,ByAttribute,Nadir,Viewpoint,Seamline,None</AvailableMosaicMethods>
<AvailableCompressionMethods Sync="TRUE">None,JPEG,LZ77,LERC</AvailableCompressionMethods>
<AvailableItemMetadataLevels Sync="TRUE">None,Basic,Full</AvailableItemMetadataLevels>
<BandDefinitionKeyword Sync="TRUE">NONE</BandDefinitionKeyword>
<_docversion_ Sync="TRUE">10</_docversion_>
<AllowedFields Sync="TRUE">Name,MinPS,MaxPS,LowPS,HighPS,Tag,GroupName,ProductName,CenterX,CenterY,ZOrder,Shape_Length,Shape_Area</AllowedFields>
<MaxCellSize Sync="TRUE">675000</MaxCellSize>
<LowCellSize Sync="TRUE">250</LowCellSize>
<HighCellSize Sync="TRUE">13500</HighCellSize>
<ApplyColorCorrection Sync="TRUE">0</ApplyColorCorrection>
<TimeValueFormat Sync="TRUE"/>
<EndTimeFieldName Sync="TRUE"/>
<StartTimeFieldName Sync="TRUE"/>
<TimeIntervalUnits Sync="TRUE"/>
<TimeInterval Sync="TRUE"/>
<VerticalDimension Sync="TRUE"/>
<FlowDirection Sync="TRUE"/>
<MosaicOperator Sync="TRUE">1</MosaicOperator>
<BlendWidthUnits Sync="TRUE">1</BlendWidthUnits>
<UseTime Sync="TRUE">0</UseTime>
<SortAscending Sync="TRUE">-1</SortAscending>
<ClipToFootprint Sync="TRUE">0</ClipToFootprint>
<ClipOverviewsToFootprint Sync="TRUE">0</ClipOverviewsToFootprint>
<SortField Sync="TRUE">Name</SortField>
<SortValue Sync="TRUE">0</SortValue>
</Properties>
<Functions Sync="TRUE">
<Function Description="Performs on-the-fly mosaic on a raster catalog." Name="Mosaic Function"/>
</Functions>
</RasterProperties>
</DataProperties>
<scaleRange>
<minScale>150000000</minScale>
<maxScale>100</maxScale>
</scaleRange>
<SyncDate>20211006</SyncDate>
<SyncTime>14425400</SyncTime>
<ModDate>20211006</ModDate>
<ModTime>14425400</ModTime>
</Esri>
<mdLang>
<languageCode value="eng"/>
<countryCode Sync="TRUE" value="NZL"/>
</mdLang>
<mdChar>
<CharSetCd value="004"/>
</mdChar>
<mdHrLv>
<ScopeCd value="005"/>
</mdHrLv>
<mdHrLvName Sync="TRUE">dataset</mdHrLvName>
<mdContact>
<rpOrgName>Department of Conservation Te Papa Atawhai</rpOrgName>
<rpPosName>Geospatial Services Manager</rpPosName>
<role>
<RoleCd value="007"/>
</role>
</mdContact>
<mdDateSt Sync="TRUE">20211006</mdDateSt>
<dataIdInfo>
<idAbs>&lt;P&gt;In order to support ongoing marine spatial planning in New Zealand, a numerical environmental classification using Gradient Forest (GF) models, was developed using a broad suite of biotic and high-resolution environmental predictor variables. A total of 630,997 records of 1,716 taxa living on, or near the seafloor and occurring at 39,766 unique locations were used to inform the transformation of 20 gridded environmental variables to represent spatial patterns of compositional turnover in 4 biotic groups (demersal fish, benthic invertebrates, macroalgae, and reef fish) and the overall seafloor community. Compositional turnover of the overall community was classified using a hierarchical procedure to define groups at different levels of classification detail and at two resolutions: a 250 m resolution grid from the coastline to the edge of the territorial sea (12 NM from shore), and a 1 km resolution grid from the edge of the territorial sea to the edge of the New Zealand exclusive economic zone. The 75-group level classification was assessed as representing the highest number of groups that captured the majority of the variation across the New Zealand marine environment. This classification is referred to as the New Zealand ‘Seafloor Community Classification’ (SCC).&lt;/P&gt; &lt;P&gt;Associated spatially explicit measures of uncertainty for compositional turnover for the overall community (measured as the standard deviation of the mean (SD) compositional turnover averaged across each environmental variable) are also available, as is an added measure of uncertainty – coverage of the environmental space, which highlights geographic areas where predictions may be less certain due to low sampling.&lt;/P&gt; The full report and description of classes (at the 75 group level) are available at: &lt;ul&gt;&lt;li&gt;&lt;a href=https://www.doc.govt.nz/globalassets/documents/conservation/marine-and-coastal/marine-protected-areas/development-of-new-zealand-seafloor-community-classification.pdf target=_blank&gt;https://www.doc.govt.nz/globalassets/documents/conservation/marine-and-coastal/marine-protected-areas/development-of-new-zealand-seafloor-community-classification.pdf&lt;/a&gt;&lt;/li&gt;&lt;li&gt;&lt;a href=https://www.doc.govt.nz/globalassets/documents/conservation/marine-and-coastal/marine-protected-areas/seafloor-community-classification-supplementary-information.pdf target=_blank&gt;https://www.doc.govt.nz/globalassets/documents/conservation/marine-and-coastal/marine-protected-areas/seafloor-community-classification-supplementary-information.pdf&lt;/a&gt;&lt;br /&gt;&lt;/li&gt;&lt;/ul&gt;</idAbs>
<idCitation>
<date>
<createDate>2021</createDate>
<pubDate>2021</pubDate>
<reviseDate>2021</reviseDate>
</date>
<resTitle>SeafloorClassificationTerritorialSea</resTitle>
<presForm>
<PresFormCd Sync="TRUE" value="005"/>
</presForm>
</idCitation>
<resConst>
<Consts>
<useLimit>&lt;DIV STYLE="text-align:Left;"&gt;&lt;DIV&gt;&lt;DIV&gt;&lt;P&gt;&lt;SPAN STYLE="font-weight:bold;font-size:12pt"&gt;Disclaimers&lt;/SPAN&gt;&lt;/P&gt;&lt;P&gt;&lt;SPAN&gt;1. While all care and diligence has been used in collecting, processing, analysing, and extracting data and information in this database, DOC makes no express or implied warranties as to the accuracy or completeness of the data or information, nor its suitability for any purpose. Errors are inevitably part of any database, and can arise by a number of means, from errors during field data collection, to errors during data entry. &lt;/SPAN&gt;&lt;/P&gt;&lt;P&gt;&lt;SPAN&gt;2. DOC makes no warranties or representations as to possible infringement upon copyrights or other intellectual property rights of others in the data or information. &lt;/SPAN&gt;&lt;/P&gt;&lt;P&gt;&lt;SPAN&gt;3. DOC will not accept liability for any direct, indirect, special or consequential damages, losses or expenses howsoever arising and relating to use, or lack of use, of the data or information supplied.&lt;/SPAN&gt;&lt;/P&gt;&lt;P&gt;&lt;SPAN STYLE="font-weight:bold;font-size:12pt"&gt;Guidelines for Use of the Information&lt;/SPAN&gt;&lt;/P&gt;&lt;P&gt;&lt;SPAN&gt;4. We recommend that users exercise their own skill and care. Care should be taken in deriving conclusions from any data or information supplied. &lt;/SPAN&gt;&lt;/P&gt;&lt;P&gt;&lt;SPAN&gt;5. We recommend that users carefully evaluate the accuracy, currency, completeness, and relevance of the material for their purposes. Any use of the data or information supplied should state when the data or information was acquired and that it may now be out-of-date. &lt;/SPAN&gt;&lt;/P&gt;&lt;P&gt;&lt;SPAN STYLE="font-weight:bold;font-size:12pt"&gt;Copyright Obligations&lt;/SPAN&gt;&lt;/P&gt;&lt;P&gt;&lt;SPAN&gt;6. All proprietary rights to the intellectual property in the data or information remain with the Crown as its sole property. &lt;/SPAN&gt;&lt;/P&gt;&lt;P&gt;&lt;SPAN&gt;7. Modification of the data and information or the addition of the information does not confer copyright or any other form of property of the original material to a user. &lt;/SPAN&gt;&lt;/P&gt;&lt;P&gt;&lt;SPAN&gt;8. All maps or reports that are derived from the data or information must acknowledge the Crown copyright, in the following way: &lt;/SPAN&gt;&lt;/P&gt;&lt;P&gt;&lt;SPAN STYLE="text-decoration:underline;"&gt;CC-BY ATTRIBUTION Crown &lt;/SPAN&gt;&lt;SPAN&gt;copyright ©. Copyright material on this database is licensed under the &lt;/SPAN&gt;&lt;A href="http://creativecommons.org:80/licenses/by/3.0/nz" STYLE="text-decoration:underline;"&gt;&lt;SPAN&gt;Creative Commons Attribution 3.0 New Zealand licence&lt;/SPAN&gt;&lt;/A&gt;&lt;SPAN&gt;. In essence, you are free to copy, distribute and adapt the work, as long as you attribute the work to the Department of Conservation and abide by the other licence terms. Please note that neither the Department of Conservation emblem nor the New Zealand Government logo may be used in any way which infringes any provision of the &lt;/SPAN&gt;&lt;A href="http://www.legislation.govt.nz:80/act/public/1981/0047/latest/whole.html" STYLE="text-decoration:underline;"&gt;&lt;SPAN&gt;Flags, Emblems, and Names Protection Act 1981&lt;/SPAN&gt;&lt;/A&gt;&lt;SPAN&gt; or would infringe such provision if the relevant use occurred within New Zealand. Attribution to the Department of Conservation should be in written form and not by reproduction of the Department of Conservation emblem or New Zealand Government logo.”&lt;/SPAN&gt;&lt;/P&gt;&lt;/DIV&gt;&lt;/DIV&gt;&lt;/DIV&gt;</useLimit>
</Consts>
</resConst>
<dataChar>
<CharSetCd value="004"/>
</dataChar>
<idPoC>
<rpOrgName>Department of Conservation Te Papa Atawhai</rpOrgName>
<rpPosName>Director Aquatic</rpPosName>
<role>
<RoleCd value="003"/>
</role>
</idPoC>
<idPoC>
<rpOrgName>Department of Conservation Te Papa Atawhai</rpOrgName>
<rpPosName>Geospatial Services Team</rpPosName>
<role>
<RoleCd value="002"/>
</role>
</idPoC>
<resMaint>
<maintFreq>
<MaintFreqCd value="011"/>
</maintFreq>
</resMaint>
<resConst>
<SecConsts>
<class>
<ClasscationCd value="001"/>
</class>
<useLimit>Data sharing external to DOC.</useLimit>
</SecConsts>
</resConst>
<dataLang>
<languageCode value="eng"/>
<countryCode Sync="TRUE" value="NZL"/>
</dataLang>
<idPurp>New Zealand Seafloor Community Classification (SCC). Commission by the New Zealand Department of Conservation, provided by New Zealand National Institute of...</idPurp>
<idCredit>Fabrice Stephenson, Ashley Rowden, Tom Brough, John Leathwick, Richard Bulmer, Dana Clark, Carolyn Lundquist, Barry Greenfield, David Bowden, Ian Tuck, Kate Neill, Kevin Mackay, Matt Pinkerton, Owen Anderson, Richard Gorman, Sadie Mills, Stephanie Watson, Wendy Nelson, Judi Hewitt</idCredit>
<searchKeys>
<keyword>Seafloor Community Classification</keyword>
<keyword>New Zealand Territorial Sea</keyword>
<keyword>Habitat Classification</keyword>
<keyword>Species Distributions</keyword>
<keyword>Marine Biodiversity</keyword>
<keyword>Gradient Forest Models</keyword>
</searchKeys>
<themeKeys>
<keyword>Marine</keyword>
</themeKeys>
<tpCat>
<TopicCatCd value="014"/>
</tpCat>
<envirDesc Sync="TRUE">Microsoft Windows 10 Version 10.0 (Build 18363) ; Esri ArcGIS 12.8.0.29751</envirDesc>
<spatRpType>
<SpatRepTypCd Sync="TRUE" value="002"/>
</spatRpType>
<dataExt>
<geoEle>
<GeoBndBox esriExtentType="search">
<exTypeCode Sync="TRUE">1</exTypeCode>
<westBL Sync="TRUE">-180.000000</westBL>
<eastBL Sync="TRUE">180.000000</eastBL>
<northBL Sync="TRUE">-28.992189</northBL>
<southBL Sync="TRUE">-52.944337</southBL>
</GeoBndBox>
</geoEle>
</dataExt>
</dataIdInfo>
<mdMaint>
<maintFreq>
<MaintFreqCd value="011"/>
</maintFreq>
</mdMaint>
<dqInfo>
<dataLineage>
<statement>The SCC is informed by the spatial patterns of composition turnover from species distribution models from four biotic groups (demersal fish, benthic invertebrate, macroalgae and reef fish). Bootstrapped Gradient Forest models including samples from all four biotic groups were used to create a mean spatial estimate of compositional turnover. Compositional turnover of the overall community was then classified using a hierarchical clustering approach to define groups at different levels of classification detail. The 75-group level classification was assessed as representing the highest number of groups that captured the majority of the variation across the New Zealand marine environment.</statement>
</dataLineage>
<dqScope>
<scpLvl>
<ScopeCd value="005"/>
</scpLvl>
</dqScope>
</dqInfo>
<refSysInfo>
<RefSystem>
<refSysID>
<identCode Sync="TRUE" code="0"/>
</refSysID>
</RefSystem>
</refSysInfo>
<spatRepInfo>
<Georect>
<cellGeo>
<CellGeoCd Sync="TRUE" value="002"/>
</cellGeo>
<numDims Sync="TRUE">2</numDims>
<tranParaAv Sync="TRUE">1</tranParaAv>
<chkPtAv Sync="TRUE">0</chkPtAv>
<cornerPts>
<pos Sync="TRUE">-679728.634030 -1448930.342890</pos>
</cornerPts>
<cornerPts>
<pos Sync="TRUE">-679728.634030 1200069.657110</pos>
</cornerPts>
<cornerPts>
<pos Sync="TRUE">747271.365970 1200069.657110</pos>
</cornerPts>
<cornerPts>
<pos Sync="TRUE">747271.365970 -1448930.342890</pos>
</cornerPts>
<centerPt>
<pos Sync="TRUE">33771.365970 -124430.342890</pos>
</centerPt>
<axisDimension type="002">
<dimSize Sync="TRUE">5708</dimSize>
<dimResol>
<value Sync="TRUE" uom="m">250.000000</value>
</dimResol>
</axisDimension>
<axisDimension type="001">
<dimSize Sync="TRUE">10596</dimSize>
<dimResol>
<value Sync="TRUE" uom="m">250.000000</value>
</dimResol>
</axisDimension>
<ptInPixel>
<PixOrientCd Sync="TRUE" value="001"/>
</ptInPixel>
</Georect>
</spatRepInfo>
<contInfo>
<ImgDesc>
<contentTyp>
<ContentTypCd Sync="TRUE" value="001"/>
</contentTyp>
<covDim>
<Band>
<dimDescrp Sync="TRUE">Band_1</dimDescrp>
<maxVal Sync="TRUE">74.855469</maxVal>
<minVal Sync="TRUE">1.144531</minVal>
<bitsPerVal Sync="TRUE">32</bitsPerVal>
<valUnit>
<UOM type="length"/>
</valUnit>
</Band>
</covDim>
</ImgDesc>
</contInfo>
</metadata>
