<?xml version="1.0" encoding="UTF-8" standalone="no"?>
<metadata xml:lang="en">
<Esri>
<CreaDate>20211129</CreaDate>
<CreaTime>15444800</CreaTime>
<ArcGISFormat>1.0</ArcGISFormat>
<ArcGISstyle>ISO 19139 Metadata Implementation Specification</ArcGISstyle>
<SyncOnce>FALSE</SyncOnce>
<DataProperties>
<lineage>
<Process Date="20211129" Name="Create Mosaic Dataset (6)" Time="154448" ToolSource="c:\program files (x86)\arcgis\desktop10.7\ArcToolbox\Toolboxes\Data Management Tools.tbx\CreateMosaicDataset" export="">CreateMosaicDataset \\DEVSEASKETCHFS1\Seasketch_Data\SpeciesDistribution\Data.gdb MacroalgaeDistribution "PROJCS['Albers_Conic_Equal_Area',GEOGCS['GCS_WGS_1984',DATUM['D_WGS_1984',SPHEROID['WGS_1984',6378137.0,298.257223563]],PRIMEM['Greenwich',0.0],UNIT['Degree',0.0174532925199433]],PROJECTION['Albers'],PARAMETER['false_easting',0.0],PARAMETER['false_northing',0.0],PARAMETER['central_meridian',175.0],PARAMETER['standard_parallel_1',-30.0],PARAMETER['standard_parallel_2',-50.0],PARAMETER['latitude_of_origin',-40.0],UNIT['Meter',1.0]];-16381800 -14264900 274914821.776026;-100000 10000;-100000 10000;0.001;0.001;0.001;IsHighPrecision" # # NONE #</Process>
</lineage>
<itemProps>
<itemName Sync="TRUE">MacroalgaeDistribution</itemName>
<itemLocation>
<linkage Sync="TRUE">file://\\DEVSEASKETCHFS1\Seasketch_Data\SpeciesDistribution\Data.gdb</linkage>
<protocol Sync="TRUE">Local Area Network</protocol>
</itemLocation>
<nativeExtBox>
<westBL Sync="TRUE">-658478.634030</westBL>
<eastBL Sync="TRUE">734771.365970</eastBL>
<southBL Sync="TRUE">-852180.342890</southBL>
<northBL Sync="TRUE">1178319.657110</northBL>
<exTypeCode Sync="TRUE">1</exTypeCode>
</nativeExtBox>
<imsContentType export="False"/>
</itemProps>
<coordRef>
<type Sync="TRUE">Projected</type>
<geogcsn Sync="TRUE">GCS_WGS_1984</geogcsn>
<csUnits Sync="TRUE">Linear Unit: Meter (1.000000)</csUnits>
<projcsn Sync="TRUE">Albers_Conic_Equal_Area</projcsn>
<peXml Sync="TRUE">&lt;ProjectedCoordinateSystem xsi:type='typens:ProjectedCoordinateSystem' xmlns:xsi='http://www.w3.org/2001/XMLSchema-instance' xmlns:xs='http://www.w3.org/2001/XMLSchema' xmlns:typens='http://www.esri.com/schemas/ArcGIS/10.7'&gt;&lt;WKT&gt;PROJCS[&amp;quot;Albers_Conic_Equal_Area&amp;quot;,GEOGCS[&amp;quot;GCS_WGS_1984&amp;quot;,DATUM[&amp;quot;D_WGS_1984&amp;quot;,SPHEROID[&amp;quot;WGS_1984&amp;quot;,6378137.0,298.257223563]],PRIMEM[&amp;quot;Greenwich&amp;quot;,0.0],UNIT[&amp;quot;Degree&amp;quot;,0.0174532925199433]],PROJECTION[&amp;quot;Albers&amp;quot;],PARAMETER[&amp;quot;false_easting&amp;quot;,0.0],PARAMETER[&amp;quot;false_northing&amp;quot;,0.0],PARAMETER[&amp;quot;central_meridian&amp;quot;,175.0],PARAMETER[&amp;quot;standard_parallel_1&amp;quot;,-30.0],PARAMETER[&amp;quot;standard_parallel_2&amp;quot;,-50.0],PARAMETER[&amp;quot;latitude_of_origin&amp;quot;,-40.0],UNIT[&amp;quot;Meter&amp;quot;,1.0]]&lt;/WKT&gt;&lt;XOrigin&gt;-16381800&lt;/XOrigin&gt;&lt;YOrigin&gt;-14264900&lt;/YOrigin&gt;&lt;XYScale&gt;274914821.77602553&lt;/XYScale&gt;&lt;ZOrigin&gt;-100000&lt;/ZOrigin&gt;&lt;ZScale&gt;10000&lt;/ZScale&gt;&lt;MOrigin&gt;-100000&lt;/MOrigin&gt;&lt;MScale&gt;10000&lt;/MScale&gt;&lt;XYTolerance&gt;0.001&lt;/XYTolerance&gt;&lt;ZTolerance&gt;0.001&lt;/ZTolerance&gt;&lt;MTolerance&gt;0.001&lt;/MTolerance&gt;&lt;HighPrecision&gt;true&lt;/HighPrecision&gt;&lt;/ProjectedCoordinateSystem&gt;</peXml>
</coordRef>
<RasterProperties>
<General>
<PixelDepth Sync="TRUE">32</PixelDepth>
<HasColormap Sync="TRUE">FALSE</HasColormap>
<CompressionType Sync="TRUE">None</CompressionType>
<NumBands Sync="TRUE">1</NumBands>
<Format Sync="TRUE">AMD</Format>
<HasPyramids Sync="TRUE">TRUE</HasPyramids>
<SourceType Sync="TRUE">continuous</SourceType>
<PixelType Sync="TRUE">floating point</PixelType>
<NoDataValue Sync="TRUE"/>
</General>
<Properties>
<MaxImageHeight Sync="TRUE">4100</MaxImageHeight>
<MaxImageWidth Sync="TRUE">15000</MaxImageWidth>
<MaxRecordCount Sync="TRUE">1000</MaxRecordCount>
<MaxDownloadImageCount Sync="TRUE">20</MaxDownloadImageCount>
<MaxDownloadSizeLimit Sync="TRUE">2048</MaxDownloadSizeLimit>
<MaxMosaicImageCount Sync="TRUE">20</MaxMosaicImageCount>
<DefaultCompressionQuality Sync="TRUE">75</DefaultCompressionQuality>
<DefaultCompressionTolerance Sync="TRUE">0.01</DefaultCompressionTolerance>
<BlendWidth Sync="TRUE">10</BlendWidth>
<ViewpointSpacingX Sync="TRUE">600</ViewpointSpacingX>
<ViewpointSpacingY Sync="TRUE">300</ViewpointSpacingY>
<AllowedItemMetadata Sync="TRUE">Basic</AllowedItemMetadata>
<DefaultResamplingMethod Sync="TRUE">1</DefaultResamplingMethod>
<AllowedMosaicMethods Sync="TRUE">NorthWest,Center,LockRaster,ByAttribute,Nadir,Viewpoint,Seamline,None</AllowedMosaicMethods>
<AllowedCompressions Sync="TRUE">None,JPEG,LZ77,LERC</AllowedCompressions>
<AllowedMensurationCapabilities Sync="TRUE">Basic</AllowedMensurationCapabilities>
<AvailableMensurationCapabilities Sync="TRUE">None,Basic,Base-Top Height,Top-Top Shadow Height,Base-Top Shadow Height,3D</AvailableMensurationCapabilities>
<ClipToBoundary Sync="TRUE">-1</ClipToBoundary>
<FootprintMayContainNoData Sync="TRUE">-1</FootprintMayContainNoData>
<CellSizeTolerance Sync="TRUE">0.8</CellSizeTolerance>
<MinimumPixelContribution Sync="TRUE">1</MinimumPixelContribution>
<AvailableMosaicMethods Sync="TRUE">NorthWest,Center,LockRaster,ByAttribute,Nadir,Viewpoint,Seamline,None</AvailableMosaicMethods>
<AvailableCompressionMethods Sync="TRUE">None,JPEG,LZ77,LERC</AvailableCompressionMethods>
<AvailableItemMetadataLevels Sync="TRUE">None,Basic,Full</AvailableItemMetadataLevels>
<BandDefinitionKeyword Sync="TRUE">NONE</BandDefinitionKeyword>
<_docversion_ Sync="TRUE">10</_docversion_>
<AllowedFields Sync="TRUE">Name,MinPS,MaxPS,LowPS,HighPS,Tag,GroupName,ProductName,CenterX,CenterY,ZOrder,Shape_Length,Shape_Area</AllowedFields>
<MaxCellSize Sync="TRUE">5000</MaxCellSize>
<LowCellSize Sync="TRUE">250</LowCellSize>
<HighCellSize Sync="TRUE">500</HighCellSize>
<ApplyColorCorrection Sync="TRUE">0</ApplyColorCorrection>
</Properties>
<Functions Sync="TRUE">
<Function Description="Performs on-the-fly mosaic on a raster catalog." Name="Mosaic Function"/>
</Functions>
</RasterProperties>
</DataProperties>
<SyncDate>20211206</SyncDate>
<SyncTime>14561800</SyncTime>
<ModDate>20211206</ModDate>
<ModTime>14563000</ModTime>
<scaleRange>
<minScale>150000000</minScale>
<maxScale>5000</maxScale>
</scaleRange>
<ArcGISProfile>ISO19139</ArcGISProfile>
</Esri>
<dataIdInfo>
<envirDesc Sync="TRUE"> Version 6.2 (Build 9200) ; Esri ArcGIS 10.7.1.11595</envirDesc>
<dataLang>
<languageCode Sync="TRUE" value="eng"/>
<countryCode Sync="TRUE" value="NZL"/>
</dataLang>
<idCitation>
<resTitle Sync="FALSE">MacroalgaeDistribution</resTitle>
<presForm>
<PresFormCd Sync="TRUE" value="005"/>
</presForm>
</idCitation>
<spatRpType>
<SpatRepTypCd Sync="TRUE" value="002"/>
</spatRpType>
<dataExt>
<geoEle>
<GeoBndBox esriExtentType="search">
<exTypeCode Sync="TRUE">1</exTypeCode>
<westBL Sync="TRUE">-180.000000</westBL>
<eastBL Sync="TRUE">180.000000</eastBL>
<northBL Sync="TRUE">-29.197706</northBL>
<southBL Sync="TRUE">-47.571220</southBL>
</GeoBndBox>
</geoEle>
</dataExt>
<searchKeys>
<keyword>Species Distribution Models</keyword>
<keyword>Macroalgae</keyword>
<keyword>Macroalgae Distribution</keyword>
</searchKeys>
<resConst>
<Consts>
<useLimit>&lt;DIV STYLE="text-align:Left;"&gt;&lt;DIV&gt;&lt;DIV&gt;&lt;P&gt;&lt;SPAN STYLE="font-weight:bold;font-size:12pt"&gt;Disclaimers&lt;/SPAN&gt;&lt;/P&gt;&lt;P&gt;&lt;SPAN&gt;1. While all care and diligence has been used in collecting, processing, analysing, and extracting data and information in this database, DOC makes no express or implied warranties as to the accuracy or completeness of the data or information, nor its suitability for any purpose. Errors are inevitably part of any database, and can arise by a number of means, from errors during field data collection, to errors during data entry. &lt;/SPAN&gt;&lt;/P&gt;&lt;P&gt;&lt;SPAN&gt;2. DOC makes no warranties or representations as to possible infringement upon copyrights or other intellectual property rights of others in the data or information. &lt;/SPAN&gt;&lt;/P&gt;&lt;P&gt;&lt;SPAN&gt;3. DOC will not accept liability for any direct, indirect, special or consequential damages, losses or expenses howsoever arising and relating to use, or lack of use, of the data or information supplied.&lt;/SPAN&gt;&lt;/P&gt;&lt;P&gt;&lt;SPAN STYLE="font-weight:bold;font-size:12pt"&gt;Guidelines for Use of the Information&lt;/SPAN&gt;&lt;/P&gt;&lt;P&gt;&lt;SPAN&gt;4. We recommend that users exercise their own skill and care. Care should be taken in deriving conclusions from any data or information supplied. &lt;/SPAN&gt;&lt;/P&gt;&lt;P&gt;&lt;SPAN&gt;5. We recommend that users carefully evaluate the accuracy, currency, completeness, and relevance of the material for their purposes. Any use of the data or information supplied should state when the data or information was acquired and that it may now be out-of-date. &lt;/SPAN&gt;&lt;/P&gt;&lt;P&gt;&lt;SPAN STYLE="font-weight:bold;font-size:12pt"&gt;Copyright Obligations&lt;/SPAN&gt;&lt;/P&gt;&lt;P&gt;&lt;SPAN&gt;6. All proprietary rights to the intellectual property in the data or information remain with the Crown as its sole property. &lt;/SPAN&gt;&lt;/P&gt;&lt;P&gt;&lt;SPAN&gt;7. Modification of the data and information or the addition of the information does not confer copyright or any other form of property of the original material to a user. &lt;/SPAN&gt;&lt;/P&gt;&lt;P&gt;&lt;SPAN&gt;8. All maps or reports that are derived from the data or information must acknowledge the Crown copyright, in the following way: &lt;/SPAN&gt;&lt;/P&gt;&lt;P&gt;&lt;SPAN&gt;CC-BY ATTRIBUTION Crown &lt;/SPAN&gt;&lt;SPAN&gt;copyright ©. Copyright material on this database is licensed under the &lt;/SPAN&gt;&lt;A href="https://creativecommons.org/licenses/by/3.0/nz"&gt;&lt;SPAN&gt;Creative Commons Attribution 3.0 New Zealand licence&lt;/SPAN&gt;&lt;/A&gt;&lt;SPAN&gt;. In essence, you are free to copy, distribute and adapt the work, as long as you attribute the work to the Department of Conservation and abide by the other licence terms. Please note that neither the Department of Conservation emblem nor the New Zealand Government logo may be used in any way which infringes any provision of the &lt;/SPAN&gt;&lt;A href="https://www.legislation.govt.nz/act/public/1981/0047/latest/whole.html"&gt;&lt;SPAN&gt;Flags, Emblems, and Names Protection Act 1981&lt;/SPAN&gt;&lt;/A&gt;&lt;SPAN&gt;or would infringe such provision if the relevant use occurred within New Zealand. Attribution to the Department of Conservation should be in written form and not by reproduction of the Department of Conservation emblem or New Zealand Government logo.”&lt;/SPAN&gt;&lt;/P&gt;&lt;/DIV&gt;&lt;/DIV&gt;&lt;/DIV&gt;</useLimit>
</Consts>
</resConst>
<idPoC>
<rpOrgName>Department of Conservation Te Papa Atawhai</rpOrgName>
<rpPosName>Director Aquatic</rpPosName>
<role>
<RoleCd value="003"/>
</role>
</idPoC>
<idPoC>
<rpOrgName>Department of Conservation Te Papa Atawhai</rpOrgName>
<rpPosName>Geospatial Services Team</rpPosName>
<role>
<RoleCd value="002"/>
</role>
</idPoC>
<idPoC>
<rpOrgName>Department of Conservation Te Papa Atawhai</rpOrgName>
<rpPosName>Marine Ecosystems Team</rpPosName>
<role>
<RoleCd value="002"/>
</role>
</idPoC>
<idPoC>
<rpOrgName>National Institute of Water and Atmospheric Research</rpOrgName>
<rpPosName>Marine Ecology Group</rpPosName>
<role>
<RoleCd value="006"/>
</role>
</idPoC>
<idPurp>Macroalgae distribution layers.</idPurp>
<idAbs>&lt;DIV STYLE="text-align:Left;"&gt;&lt;DIV&gt;&lt;DIV&gt;&lt;P&gt;&lt;SPAN&gt;Macroalgae distribution layers.&lt;/SPAN&gt;&lt;/P&gt;&lt;/DIV&gt;&lt;/DIV&gt;&lt;/DIV&gt;</idAbs>
<tpCat>
<TopicCatCd value="014"/>
</tpCat>
<idCredit/>
</dataIdInfo>
<mdLang>
<languageCode Sync="TRUE" value="eng"/>
<countryCode Sync="TRUE" value="NZL"/>
</mdLang>
<refSysInfo>
<RefSystem>
<refSysID>
<identCode Sync="TRUE" code="0"/>
</refSysID>
</RefSystem>
</refSysInfo>
<spatRepInfo>
<Georect>
<cellGeo>
<CellGeoCd Sync="TRUE" value="002"/>
</cellGeo>
<numDims Sync="TRUE">2</numDims>
<tranParaAv Sync="TRUE">1</tranParaAv>
<chkPtAv Sync="TRUE">0</chkPtAv>
<cornerPts>
<pos Sync="TRUE">-658478.634030 -852180.342890</pos>
</cornerPts>
<cornerPts>
<pos Sync="TRUE">-658478.634030 1178319.657110</pos>
</cornerPts>
<cornerPts>
<pos Sync="TRUE">734771.365970 1178319.657110</pos>
</cornerPts>
<cornerPts>
<pos Sync="TRUE">734771.365970 -852180.342890</pos>
</cornerPts>
<centerPt>
<pos Sync="TRUE">38146.365970 163069.657110</pos>
</centerPt>
<axisDimension type="002">
<dimSize Sync="TRUE">5573</dimSize>
<dimResol>
<value Sync="TRUE" uom="m">250.000000</value>
</dimResol>
</axisDimension>
<axisDimension type="001">
<dimSize Sync="TRUE">8122</dimSize>
<dimResol>
<value Sync="TRUE" uom="m">250.000000</value>
</dimResol>
</axisDimension>
<ptInPixel>
<PixOrientCd Sync="TRUE" value="001"/>
</ptInPixel>
</Georect>
</spatRepInfo>
<contInfo>
<ImgDesc>
<contentTyp>
<ContentTypCd Sync="TRUE" value="001"/>
</contentTyp>
<covDim>
<Band>
<dimDescrp Sync="TRUE">Band_1</dimDescrp>
<maxVal Sync="TRUE">0.877299</maxVal>
<minVal Sync="TRUE">0.001717</minVal>
<bitsPerVal Sync="TRUE">32</bitsPerVal>
<valUnit>
<UOM type="length"/>
</valUnit>
</Band>
</covDim>
</ImgDesc>
</contInfo>
<mdDateSt Sync="TRUE">20211206</mdDateSt>
<mdHrLv>
<ScopeCd value="005"/>
</mdHrLv>
<mdContact>
<rpOrgName>Department of Conservation Te Papa Atawhai</rpOrgName>
<rpPosName>Geospatial Services Manager</rpPosName>
<role>
<RoleCd value="007"/>
</role>
</mdContact>
</metadata>
