<?xml version="1.0" standalone="no"?>
<metadata xml:lang="en"><Esri><CreaDate>20230807</CreaDate><CreaTime>12082200</CreaTime><ArcGISFormat>1.0</ArcGISFormat><SyncOnce>FALSE</SyncOnce><DataProperties><lineage><Process Date="20221207" Name="" Time="153534" ToolSource="c:\program files\arcgis\pro\Resources\ArcToolbox\toolboxes\Data Management Tools.tbx\CreateMosaicDataset" export="">CreateMosaicDataset D:\seasketch_cache_data\BenthicTerrainModel\10m\Mosaic.gdb MBESsurv_mosaic_10m PROJCS["WGS_1984_Web_Mercator_Auxiliary_Sphere",GEOGCS["GCS_WGS_1984",DATUM["D_WGS_1984",SPHEROID["WGS_1984",6378137.0,298.257223563]],PRIMEM["Greenwich",0.0],UNIT["Degree",0.0174532925199433]],PROJECTION["Mercator_Auxiliary_Sphere"],PARAMETER["False_Easting",0.0],PARAMETER["False_Northing",0.0],PARAMETER["Central_Meridian",0.0],PARAMETER["Standard_Parallel_1",0.0],PARAMETER["Auxiliary_Sphere_Type",0.0],UNIT["Meter",1.0]] # # None #</Process><Process Date="20230807" Name="" Time="120828" ToolSource="c:\program files\arcgis\pro\Resources\ArcToolbox\Toolboxes\Data Management Tools.tbx\CopyMultiple" export="">CopyMultiple "Q:\GIS_Analysts\Projects\2021_2022\Marine\R222653_BTM_NZ_JR\BenthicTerrainModel_PublishedtoSeasketch\Mosaic.gdb\MBESsurv_mosaic_10m MosaicDataset" \\DEVSEASKETCHFS1\Seasketch_Data\BenthicTerrainModel\Mosaic.gdb MBESsurv_mosaic_10m "MBESsurv_mosaic_10m MosaicDataset MBESsurv_mosaic_10m #"</Process><Process Date="20230807" Name="" Time="135853" ToolSource="c:\program files\arcgis\pro\Resources\ArcToolbox\toolboxes\Data Management Tools.tbx\Rename" export="">Rename \\DEVSEASKETCHFS1\Seasketch_Data\BenthicTerrainModel\Mosaic.gdb\MBESsurv_mosaic_10m \\DEVSEASKETCHFS1\Seasketch_Data\BenthicTerrainModel\Mosaic.gdb\MBESsurfmodel_10m MosaicDataset</Process><Process Date="20230807" Name="" Time="135953" ToolSource="c:\program files\arcgis\pro\Resources\ArcToolbox\toolboxes\Data Management Tools.tbx\Rename" export="">Rename \\DEVSEASKETCHFS1\Seasketch_Data\BenthicTerrainModel\Mosaic.gdb\MBESsurfmodel_10m \\DEVSEASKETCHFS1\Seasketch_Data\BenthicTerrainModel\Mosaic.gdb\MBESsurfmodel MosaicDataset</Process></lineage><itemProps><itemName Sync="TRUE">MBESsurv_mosaic_10m</itemName><itemLocation><linkage Sync="TRUE">file://\\DEVSEASKETCHFS1\Seasketch_Data\BenthicTerrainModel\Mosaic.gdb</linkage><protocol Sync="TRUE">Local Area Network</protocol></itemLocation><nativeExtBox><westBL Sync="TRUE">-19704411.851556</westBL><eastBL Sync="TRUE">19945298.148444</eastBL><southBL Sync="TRUE">-6611835.738222</southBL><northBL Sync="TRUE">-4057265.738222</northBL><exTypeCode Sync="TRUE">1</exTypeCode></nativeExtBox><imsContentType export="False"/></itemProps><coordRef><type Sync="TRUE">Projected</type><geogcsn Sync="TRUE">GCS_WGS_1984</geogcsn><csUnits Sync="TRUE">Linear Unit: Meter (1.000000)</csUnits><projcsn Sync="TRUE">WGS_1984_Web_Mercator_Auxiliary_Sphere</projcsn><peXml Sync="TRUE">&lt;ProjectedCoordinateSystem xsi:type='typens:ProjectedCoordinateSystem' xmlns:xsi='http://www.w3.org/2001/XMLSchema-instance' xmlns:xs='http://www.w3.org/2001/XMLSchema' xmlns:typens='http://www.esri.com/schemas/ArcGIS/10.7'&gt;&lt;WKT&gt;PROJCS[&amp;quot;WGS_1984_Web_Mercator_Auxiliary_Sphere&amp;quot;,GEOGCS[&amp;quot;GCS_WGS_1984&amp;quot;,DATUM[&amp;quot;D_WGS_1984&amp;quot;,SPHEROID[&amp;quot;WGS_1984&amp;quot;,6378137.0,298.257223563]],PRIMEM[&amp;quot;Greenwich&amp;quot;,0.0],UNIT[&amp;quot;Degree&amp;quot;,0.0174532925199433]],PROJECTION[&amp;quot;Mercator_Auxiliary_Sphere&amp;quot;],PARAMETER[&amp;quot;False_Easting&amp;quot;,0.0],PARAMETER[&amp;quot;False_Northing&amp;quot;,0.0],PARAMETER[&amp;quot;Central_Meridian&amp;quot;,0.0],PARAMETER[&amp;quot;Standard_Parallel_1&amp;quot;,0.0],PARAMETER[&amp;quot;Auxiliary_Sphere_Type&amp;quot;,0.0],UNIT[&amp;quot;Meter&amp;quot;,1.0],AUTHORITY[&amp;quot;EPSG&amp;quot;,3857]]&lt;/WKT&gt;&lt;XOrigin&gt;-20037700&lt;/XOrigin&gt;&lt;YOrigin&gt;-30241100&lt;/YOrigin&gt;&lt;XYScale&gt;148923141.92838538&lt;/XYScale&gt;&lt;ZOrigin&gt;-100000&lt;/ZOrigin&gt;&lt;ZScale&gt;10000&lt;/ZScale&gt;&lt;MOrigin&gt;-100000&lt;/MOrigin&gt;&lt;MScale&gt;10000&lt;/MScale&gt;&lt;XYTolerance&gt;0.001&lt;/XYTolerance&gt;&lt;ZTolerance&gt;0.001&lt;/ZTolerance&gt;&lt;MTolerance&gt;0.001&lt;/MTolerance&gt;&lt;HighPrecision&gt;true&lt;/HighPrecision&gt;&lt;WKID&gt;102100&lt;/WKID&gt;&lt;LatestWKID&gt;3857&lt;/LatestWKID&gt;&lt;/ProjectedCoordinateSystem&gt;</peXml></coordRef><RasterProperties><General><PixelDepth Sync="TRUE">32</PixelDepth><HasColormap Sync="TRUE">FALSE</HasColormap><CompressionType Sync="TRUE">None</CompressionType><NumBands Sync="TRUE">1</NumBands><Format Sync="TRUE">AMD</Format><HasPyramids Sync="TRUE">TRUE</HasPyramids><SourceType Sync="TRUE">continuous</SourceType><PixelType Sync="TRUE">floating point</PixelType><NoDataValue Sync="TRUE"/></General><Properties><MaxImageHeight Sync="TRUE">4100</MaxImageHeight><MaxImageWidth Sync="TRUE">15000</MaxImageWidth><MaxRecordCount Sync="TRUE">1000</MaxRecordCount><MaxDownloadImageCount Sync="TRUE">20</MaxDownloadImageCount><MaxDownloadSizeLimit Sync="TRUE">2048</MaxDownloadSizeLimit><MaxMosaicImageCount Sync="TRUE">20</MaxMosaicImageCount><DefaultCompressionQuality Sync="TRUE">75</DefaultCompressionQuality><DefaultCompressionTolerance Sync="TRUE">0.01</DefaultCompressionTolerance><BlendWidth Sync="TRUE">10</BlendWidth><ViewpointSpacingX Sync="TRUE">600</ViewpointSpacingX><ViewpointSpacingY Sync="TRUE">300</ViewpointSpacingY><AllowedItemMetadata Sync="TRUE">Basic</AllowedItemMetadata><DefaultResamplingMethod Sync="TRUE">1</DefaultResamplingMethod><AllowedMosaicMethods Sync="TRUE">NorthWest,Center,LockRaster,ByAttribute,Nadir,Viewpoint,Seamline,None</AllowedMosaicMethods><AllowedCompressions Sync="TRUE">None,JPEG,LZ77,LERC</AllowedCompressions><AllowedMensurationCapabilities Sync="TRUE">Basic</AllowedMensurationCapabilities><AvailableMensurationCapabilities Sync="TRUE">None,Basic,Base-Top Height,Top-Top Shadow Height,Base-Top Shadow Height,3D</AvailableMensurationCapabilities><ClipToBoundary Sync="TRUE">-1</ClipToBoundary><FootprintMayContainNoData Sync="TRUE">-1</FootprintMayContainNoData><CellSizeTolerance Sync="TRUE">0.8</CellSizeTolerance><MinimumPixelContribution Sync="TRUE">1</MinimumPixelContribution><AvailableMosaicMethods Sync="TRUE">NorthWest,Center,LockRaster,ByAttribute,Nadir,Viewpoint,Seamline,None</AvailableMosaicMethods><AvailableCompressionMethods Sync="TRUE">None,JPEG,LZ77,LERC</AvailableCompressionMethods><AvailableItemMetadataLevels Sync="TRUE">None,Basic,Full</AvailableItemMetadataLevels><BandDefinitionKeyword Sync="TRUE">NONE</BandDefinitionKeyword><_docversion_ Sync="TRUE">10</_docversion_><AllowedFields Sync="TRUE">Name,MinPS,MaxPS,LowPS,HighPS,Tag,GroupName,ProductName,CenterX,CenterY,ZOrder,Shape_Length,Shape_Area</AllowedFields><MaxCellSize Sync="TRUE">432000</MaxCellSize><LowCellSize Sync="TRUE">9.99999999999995</LowCellSize><HighCellSize Sync="TRUE">8640</HighCellSize><PixelCacheLocation Sync="TRUE">C:\Users\TEMP\AppData\Local\ESRI\rasterproxies\MBESsurv_mosaic_10m</PixelCacheLocation></Properties><Functions Sync="TRUE"><Function Description="Performs on-the-fly mosaic on a raster catalog." Name="Mosaic Function"/></Functions></RasterProperties></DataProperties><SyncDate>20230726</SyncDate><SyncTime>15014700</SyncTime><ModDate>20230913</ModDate><ModTime>13352200</ModTime><scaleRange><minScale>150000000</minScale><maxScale>5000</maxScale></scaleRange><ArcGISProfile>ItemDescription</ArcGISProfile></Esri><dataIdInfo><envirDesc Sync="TRUE"> Version 6.2 (Build 9200) ; Esri ArcGIS 10.7.1.11595</envirDesc><dataLang><languageCode Sync="TRUE" value="eng"/><countryCode Sync="TRUE" value="NZL"/></dataLang><idCitation><resTitle Sync="FALSE">BTMMBESSurfaceModel</resTitle><presForm><PresFormCd Sync="TRUE" value="005"/></presForm></idCitation><spatRpType><SpatRepTypCd Sync="TRUE" value="002"/></spatRpType><dataExt><geoEle xmlns=""><GeoBndBox esriExtentType="search"><exTypeCode Sync="TRUE">1</exTypeCode><westBL Sync="TRUE">-177.007743</westBL><eastBL Sync="TRUE">179.171662</eastBL><northBL Sync="TRUE">-34.211715</northBL><southBL Sync="TRUE">-50.946501</southBL></GeoBndBox></geoEle></dataExt><idPurp>Characterizing Aotearoa New Zealand Seafloor Habitats Using the Benthic Terrain Modeller - NZ Bathymetric Surface Model</idPurp><idAbs>&lt;DIV STYLE="text-align:Left;"&gt;&lt;DIV&gt;&lt;DIV&gt;&lt;P&gt;&lt;SPAN&gt;These surface models have been created by LINZ from publicly funded single- or multi-beam data collected in the New Zealand coastal area since early 1998, and have been provided to DOC from the LINZ Data Service on request for this series.&lt;/SPAN&gt;&lt;/P&gt;&lt;P&gt;&lt;SPAN&gt;Please refer to the LINZ Bathymetric Index Data Dictionary for further information about the attributes of this dataset.&lt;/SPAN&gt;&lt;/P&gt;&lt;P&gt;&lt;SPAN&gt;This dataset is part of a series of seafloor terrain datasets that has been developed using the tools provided within the current release of the Benthic Terrain Model (BTM [v3.0]) across different multibeam echosounder datasets. The developed datasets aim to provide a baseline to assist users in consistently characterizing Aotearoa New Zealand seafloor habitats. The series includes derived outputs from 50 MBES survey sets conducted between 1999 and 2020 from throughout the New Zealand marine environment (where available) covering an area of approximately 52,000 km2. Consistency and compatibility of the benthic terrain datasets have been prioritised by utilising a common projected coordinate system (WGS84 Web Mercator), resolution (10m), and by using a standard classification dictionary (also utilised by previous BTM studies in NZ) for the terrain classification dataset. Derived BTM outputs include the Bathymetric Position Index (BPI); Surface Derivative; Rugosity; Depth Statistics; Terrain Classification. A standardised digital surface model, and derived hillshade and aspect datasets have also been made available. &lt;/SPAN&gt;&lt;/P&gt;&lt;P&gt;&lt;SPAN&gt;The full report and description of available output datasets are available at&lt;/SPAN&gt;&lt;SPAN&gt;: https://www.doc.govt.nz/globalassets/documents/science-and-technical/drds367entire.pdf&lt;/SPAN&gt;&lt;/P&gt;&lt;/DIV&gt;&lt;/DIV&gt;&lt;/DIV&gt;</idAbs><idCredit>Department of Conservation, Contains data sourced from the LINZ Data Service licensed for reuse under CC BY 4.0.</idCredit><searchKeys><keyword>BTM</keyword><keyword>benthic terrain model</keyword><keyword>habitat classification</keyword><keyword>seafloor</keyword><keyword>geomorphology</keyword><keyword>New Zealand</keyword></searchKeys><dataChar><CharSetCd value="004"/></dataChar><resConst><Consts><useLimit>&lt;DIV STYLE="text-align:Left;"&gt;&lt;DIV&gt;&lt;DIV&gt;&lt;P&gt;&lt;SPAN&gt;Disclaimers&lt;/SPAN&gt;&lt;/P&gt;&lt;P&gt;&lt;SPAN&gt;1. While all care and diligence has been used in collecting, processing, analysing, and extracting data and information in this database, DOC makes no express or implied warranties as to the accuracy or completeness of the data or information, nor its suitability for any purpose. Errors are inevitably part of any database, and can arise by a number of means, from errors during field data collection, to errors during data entry. &lt;/SPAN&gt;&lt;/P&gt;&lt;P&gt;&lt;SPAN&gt;2. DOC makes no warranties or representations as to possible infringement upon copyrights or other intellectual property rights of others in the data or information. &lt;/SPAN&gt;&lt;/P&gt;&lt;P&gt;&lt;SPAN&gt;3. DOC will not accept liability for any direct, indirect, special or consequential damages, losses or expenses howsoever arising and relating to use, or lack of use, of the data or information supplied. &lt;/SPAN&gt;&lt;/P&gt;&lt;P&gt;&lt;SPAN&gt;Guidelines for Use of the Information&lt;/SPAN&gt;&lt;/P&gt;&lt;P&gt;&lt;SPAN&gt;4. We recommend that users exercise their own skill and care. Care should be taken in deriving conclusions from any data or information supplied. &lt;/SPAN&gt;&lt;/P&gt;&lt;P&gt;&lt;SPAN&gt;5. We recommend that users carefully evaluate the accuracy, currency, completeness, and relevance of the material for their purposes. Any use of the data or information supplied should state when the data or information was acquired and that it may now be out-of-date. &lt;/SPAN&gt;&lt;/P&gt;&lt;P&gt;&lt;SPAN&gt;Copyright Obligations&lt;/SPAN&gt;&lt;/P&gt;&lt;P&gt;&lt;SPAN&gt;6. All proprietary rights to the intellectual property in the data or information remain with the Crown as its sole property. &lt;/SPAN&gt;&lt;/P&gt;&lt;P&gt;&lt;SPAN&gt;7. Modification of the data and information or the addition of the information does not confer copyright or any other form of property of the original material to a user. &lt;/SPAN&gt;&lt;/P&gt;&lt;P&gt;&lt;SPAN&gt;8. All maps or reports that are derived from the data or information must acknowledge the Crown copyright, in the following way: CC-BY ATTRIBUTION Crown copyright ©. Copyright material on this database is licensed under the Creative Commons Attribution 3.0 New Zealand licence. In essence, you are free to copy, distribute and adapt the work, as long as you attribute the work to the Department of Conservation and abide by the other licence terms. Please note that neither the Department of Conservation emblem nor the New Zealand Government logo may be used in any way which infringes any provision of the Flags, Emblems, and Names Protection Act 1981 or would infringe such provision if the relevant use occurred within New Zealand. Attribution to the Department of Conservation should be in written form and not by reproduction of the Department of Conservation emblem or New Zealand Government logo.”&lt;/SPAN&gt;&lt;/P&gt;&lt;/DIV&gt;&lt;/DIV&gt;&lt;/DIV&gt;</useLimit></Consts></resConst></dataIdInfo><mdLang><languageCode Sync="TRUE" value="eng"/><countryCode Sync="TRUE" value="NZL"/></mdLang><refSysInfo><RefSystem><refSysID><identCode Sync="TRUE" code="3857"/><idCodeSpace Sync="TRUE">EPSG</idCodeSpace><idVersion Sync="TRUE">8.8(9.3.1.2)</idVersion></refSysID></RefSystem></refSysInfo><spatRepInfo><Georect><cellGeo><CellGeoCd Sync="TRUE" value="002"/></cellGeo><numDims Sync="TRUE">2</numDims><tranParaAv Sync="TRUE">1</tranParaAv><chkPtAv Sync="TRUE">0</chkPtAv><cornerPts><pos Sync="TRUE">-19704411.851556 -6611835.738222</pos></cornerPts><cornerPts><pos Sync="TRUE">-19704411.851556 -4057265.738222</pos></cornerPts><cornerPts><pos Sync="TRUE">19945298.148444 -4057265.738222</pos></cornerPts><cornerPts><pos Sync="TRUE">19945298.148444 -6611835.738222</pos></cornerPts><centerPt><pos Sync="TRUE">120443.148444 -5334550.738222</pos></centerPt><axisDimension type="002"><dimSize Sync="TRUE">3964971</dimSize><dimResol><value Sync="TRUE" uom="m">10.000000</value></dimResol></axisDimension><axisDimension type="001"><dimSize Sync="TRUE">255457</dimSize><dimResol><value Sync="TRUE" uom="m">10.000000</value></dimResol></axisDimension><ptInPixel><PixOrientCd Sync="TRUE" value="001"/></ptInPixel></Georect></spatRepInfo><contInfo><ImgDesc><contentTyp><ContentTypCd Sync="TRUE" value="001"/></contentTyp><covDim><Band><dimDescrp Sync="TRUE">Band_1</dimDescrp><maxVal Sync="TRUE">243.294174</maxVal><minVal Sync="TRUE">-2254.645020</minVal><bitsPerVal Sync="TRUE">32</bitsPerVal><valUnit><UOM type="length"/></valUnit></Band></covDim></ImgDesc></contInfo><mdDateSt Sync="TRUE">20230913</mdDateSt><mdHrLv><ScopeCd value="005"/></mdHrLv><mdChar><CharSetCd value="004"/></mdChar></metadata>
